BEGIN:VCALENDAR
VERSION:2.0
PRODID:-//Sabina, OH Neighborhod Watch - ECPv6.15.20//NONSGML v1.0//EN
CALSCALE:GREGORIAN
METHOD:PUBLISH
X-WR-CALNAME:Sabina, OH Neighborhod Watch
X-ORIGINAL-URL:https://sabina-neighborhood-watch.com
X-WR-CALDESC:Events for Sabina, OH Neighborhod Watch
REFRESH-INTERVAL;VALUE=DURATION:PT1H
X-Robots-Tag:noindex
X-PUBLISHED-TTL:PT1H
BEGIN:VTIMEZONE
TZID:America/New_York
BEGIN:DAYLIGHT
TZOFFSETFROM:-0500
TZOFFSETTO:-0400
TZNAME:EDT
DTSTART:20240310T070000
END:DAYLIGHT
BEGIN:STANDARD
TZOFFSETFROM:-0400
TZOFFSETTO:-0500
TZNAME:EST
DTSTART:20241103T060000
END:STANDARD
BEGIN:DAYLIGHT
TZOFFSETFROM:-0500
TZOFFSETTO:-0400
TZNAME:EDT
DTSTART:20250309T070000
END:DAYLIGHT
BEGIN:STANDARD
TZOFFSETFROM:-0400
TZOFFSETTO:-0500
TZNAME:EST
DTSTART:20251102T060000
END:STANDARD
BEGIN:DAYLIGHT
TZOFFSETFROM:-0500
TZOFFSETTO:-0400
TZNAME:EDT
DTSTART:20260308T070000
END:DAYLIGHT
BEGIN:STANDARD
TZOFFSETFROM:-0400
TZOFFSETTO:-0500
TZNAME:EST
DTSTART:20261101T060000
END:STANDARD
BEGIN:DAYLIGHT
TZOFFSETFROM:-0500
TZOFFSETTO:-0400
TZNAME:EDT
DTSTART:20270314T070000
END:DAYLIGHT
BEGIN:STANDARD
TZOFFSETFROM:-0400
TZOFFSETTO:-0500
TZNAME:EST
DTSTART:20271107T060000
END:STANDARD
END:VTIMEZONE
BEGIN:VEVENT
DTSTART;TZID=America/New_York:20260414T190000
DTEND;TZID=America/New_York:20260414T200000
DTSTAMP:20260423T114811
CREATED:20260413T214852Z
LAST-MODIFIED:20260413T214958Z
UID:383-1776193200-1776196800@sabina-neighborhood-watch.com
SUMMARY:April 2026 Meeting
DESCRIPTION:The next Sabina Neighborhood Watch monthly meeting is set for this Tuesday\, April 14\, 2026 at the Municipal Building at 7:00 pm. If you have things to share or questions to ask that the Neighborhood Watch group can assist with please bring them to the meeting this week. \nNew Sabina Police Chief\, Joe Voshall\, will be with us to share updates on the Village and Police Department. \nWe hope you can join us!
URL:https://sabina-neighborhood-watch.com/event/april-2026-meeting/
LOCATION:Sabina Village Council Chamber\, 99 Howard Street\, Sabina\, OH\, 45169\, United States
END:VEVENT
BEGIN:VEVENT
DTSTART;TZID=America/New_York:20260310T190000
DTEND;TZID=America/New_York:20260310T200000
DTSTAMP:20260423T114811
CREATED:20260309T023010Z
LAST-MODIFIED:20260309T023143Z
UID:370-1773169200-1773172800@sabina-neighborhood-watch.com
SUMMARY:March 2026 Meeting
DESCRIPTION:The next Neighborhood Watch monthly meeting is set for this Tuesday\, March 10\, 2026 at the Municipal Building at 7:00 pm. If you have things to share or questions to ask that the Neighborhood Watch group can assist with please bring them to the meeting this week. \nWe will also be bidding former Chief Joe Noland farewell as he has retired. But we are also looking forward to welcoming our new Chief\, Joe Voshall\, as he works with the Village of Sabina\, with the Neighborhood Watch group and our residents and employees from local businesses. \nThanks for the posts about the railroad crossings! Sorry they too too long to post!
URL:https://sabina-neighborhood-watch.com/event/march-2026-meeting/
LOCATION:Sabina Village Council Chamber\, 99 Howard Street\, Sabina\, OH\, 45169\, United States
END:VEVENT
BEGIN:VEVENT
DTSTART;TZID=America/New_York:20260120T190000
DTEND;TZID=America/New_York:20260120T200000
DTSTAMP:20260423T114811
CREATED:20260105T190901Z
LAST-MODIFIED:20260105T191439Z
UID:357-1768935600-1768939200@sabina-neighborhood-watch.com
SUMMARY:January 2026 Town Hall Meeting
DESCRIPTION:As we kick off 2026\, the Neighborhood Watch group will host our quarterly “Town Hall” meeting at the COVE where we met last year for these meetings. \nThis is a great time to meet our newly elected members of the Sabina Village Council and our newly re-elected Mayor and let them know what you would like to see the Village take action on in the new year. First it would be nice to congratulate them on their support of the Village\, but then share your concerns\, frustrations\, or issues with the Village\, residents\, traffic\, stray cats\, water prices\, trash collection\, utilities\, water\, etc. \nWe try to hear all such concerns and then try to find solutions\, not just make complaints. We also try to involve the residents of the community as we try to tackle all such concerns as “Neighborhood Watch” is not just a team looking for trouble but looking for ways to celebrate the Village of Sabina\, OH and find ways to make it better. \nConsider joining us with all those you know near your home at 7:00 pm on Tuesday\, January 20\, 2026 at the COVE here… Have things to share before the meeting\, post it on our form or Facebook page via Messenger. \nWe hope to see you there!
URL:https://sabina-neighborhood-watch.com/event/january-2026-town-hall-meeting/
LOCATION:The Cove\, 185 South College Street\, Sabina\, OH\, 45169\, United States
END:VEVENT
BEGIN:VEVENT
DTSTART;TZID=America/New_York:20251209T180000
DTEND;TZID=America/New_York:20251209T210000
DTSTAMP:20260423T114811
CREATED:20251208T235153Z
LAST-MODIFIED:20251208T235153Z
UID:353-1765303200-1765314000@sabina-neighborhood-watch.com
SUMMARY:End of Year Meeting and Dinner
DESCRIPTION:On Tuesday\, December 9th at 6:00 pm\, the Sabina Neighborhood Watch group will be meeting at Ralph’s American Grill for our December meeting\, review of 2025 and to meet with any Sabina residents with concerns or offers of support. \nAttendees will be responsible for their own dinners\, but if you bring cash Roger can use his discount to get 20% off for everyone and you can just pay him. Alcohol is not discounted\, so if you choose to drink please note that. \nRoger has reservations\, but if you plan on attending\, please let him know by replying on the Sabina Neighborhood Watch Facebook page so he has an accurate count. Our new Village Mayor and Council are welcome to join us too!
URL:https://sabina-neighborhood-watch.com/event/end-of-year-meeting-and-dinner/
LOCATION:Ralph’s American Grill\, 123 Gano Road\, Wilmington\, OH\, 45177\, United States
END:VEVENT
BEGIN:VEVENT
DTSTART;TZID=America/New_York:20251014T190000
DTEND;TZID=America/New_York:20251014T200000
DTSTAMP:20260423T114811
CREATED:20251013T235605Z
LAST-MODIFIED:20251013T235605Z
UID:342-1760468400-1760472000@sabina-neighborhood-watch.com
SUMMARY:October Neighborhood Watch Meeting
DESCRIPTION:Our next Neighborhood Watch meeting is scheduled for tomorrow night at 7:00pm at the Sabina Municipal Building (99 Howard St # 2\, Sabina\, OH 45169). \nIf  you have any concerns\, ideas\, or just want to be part of making Sabina better\, please consider joining us. Meetings are typically at or less than 1 hour and include the Chief of Police\, sometimes members of the Village Council\, and members of the Neighborhood Watch group. \nHopefully you got to enjoy the Fall Festival this past Saturday? That was a great event! \nProtecting the village and residents is once thing the Watch group does\, but we also try to find things that help us celebrate this place where we live and make it better. \nHope to see you there!  \n– Roger \nGoogle Map to the Sabina Municipal Building:\nhttps://maps.app.goo.gl/wSSEtzFqWJYoFkgE9
URL:https://sabina-neighborhood-watch.com/event/october-neighborhood-watch-meeting/
LOCATION:Sabina Village Council Chamber\, 99 Howard Street\, Sabina\, OH\, 45169\, United States
END:VEVENT
BEGIN:VEVENT
DTSTART;TZID=America/New_York:20250909T190000
DTEND;TZID=America/New_York:20250909T200000
DTSTAMP:20260423T114811
CREATED:20250909T005913Z
LAST-MODIFIED:20250910T013126Z
UID:320-1757444400-1757448000@sabina-neighborhood-watch.com
SUMMARY:September Neighborhood Watch Meeting
DESCRIPTION:Monthly meeting to go over status\, next steps\, and any concerns or celebrations to discuss. Also feedback on Town Hall meeting\, feedback and reaching out to more of Sabina.
URL:https://sabina-neighborhood-watch.com/event/september-neighborhood-watch-meeting/
LOCATION:Sabina Village Council Chamber\, 99 Howard Street\, Sabina\, OH\, 45169\, United States
END:VEVENT
BEGIN:VEVENT
DTSTART;TZID=America/New_York:20250715T190000
DTEND;TZID=America/New_York:20250715T210000
DTSTAMP:20260423T114811
CREATED:20250709T184435Z
LAST-MODIFIED:20250715T121214Z
UID:307-1752606000-1752613200@sabina-neighborhood-watch.com
SUMMARY:July Town Hall Meeting -- Block Captain Neighborhood Crawl
DESCRIPTION:On July 15\, 2025\, the Sabina Neighborhood Watch group will hold our next “Town Hall” meeting to invite residents and businesses owners to join us in taking a look at what is working and what may not be in the village of Sabina regarding crime or improvements. \nThis month\, instead of our normal meeting place at the COVE next to the Church of Christ\, we’ll be meeting at the newly rebuilt shelter at Sabina Park! If you’ve not seen the new structure\, be sure to get out and see it! \nBefore the meeting at the shelter\, we are doing something else exciting! We’ll be using the new Sabina Police Department’s side-by-side and doing a “block crawl” to help raise awareness to the blocks in the village and help residents learn more about us and hopefully meet their block captains. We really want to get the word out that the Neighborhood Watch group is constantly working to help make the village of Sabina be the true “Eden of Ohio” and you can help us get there! \nWhile the plans may change due to circumstances or weather\, here is our plan for the night… \nJuly Town Hall Meeting — Block Captain Neighborhood Crawl\nDate: July 15\, 2025 \nhttps://maps.app.goo.gl/JiGTgae9Sequ1y56A (4.1 miles) \n\nStart – Stop 1 (7:00pm): By old pizza place at near 793 Howard Street\nStop 2 (7:10pm): near 219 West Mound Street\nStop 3 (7:20pm): near 573 Florence Avenue\nStop 4 (7:30pm): near 190 South College Street\nStop 5 (7:40pm): near 373 South Jackson Street\nStop 6 (7:50pm): near 64 South Jackson Street\nStop 7 (8:00): near 136 Rolfe Drive\nEnd – Stop 8 (8:10): Sabina Park\, then we have our normal Town Hall schedule from 8:10-9:00\n\nEach stop led by Sabina Police Side-by-Side and SNW group follow in minimal cars. At each stop we get out as side-by-side flashes lights and turns on sirens. As people come out of homes\, we share who we are and pass out cards\, brochures (with QR code) and swag. We will invite residents to park to wrap up Town Hall Block Captain Crawl. At Sabina Park\, have snacks and refreshments with more cards\, brochures and swag. \nThere we will introduce our Block Captains and note their section. See if anyone wants to volunteer for the North section (still open). We’ll talk about SNW group\, Police status\, introduce Chief\, share the importance of residents when council and mayor status is not 100%. Then we will spend the rest of time allowing residents to ask questions and try to provide answers. \n\nBring lawn chairs to the park\, they still don’t have the tables in place. 
URL:https://sabina-neighborhood-watch.com/event/july-town-hall-meeting/
LOCATION:Sabina Park\, Kenyon Drive\, Sabina\, 45169\, United States
END:VEVENT
BEGIN:VEVENT
DTSTART;TZID=America/New_York:20250412T080000
DTEND;TZID=America/New_York:20250412T170000
DTSTAMP:20260423T114811
CREATED:20250313T014332Z
LAST-MODIFIED:20250313T021448Z
UID:267-1744444800-1744477200@sabina-neighborhood-watch.com
SUMMARY:Sabina Dumpster Day 2
DESCRIPTION:To help with the many blighted properties around Sabina\, or for residents who just have some things that need to be disposed of\, the Village is having two “Dumpster Days” in April this year. Thankfully the news is that this year’s event will be restricted to Sabina Residents\, not those from other towns or cities filling up our dumpsters. So spread the word\, especially to anyone with a property full of trash and junk who needs a place to get rid of that stuff – legally.  \nThe Police Chief will be handing out warnings to residents who’s properties are considered blighted and in dire need of cleanup.
URL:https://sabina-neighborhood-watch.com/event/sabina-dumpster-day-2/
LOCATION:Sabina Park\, Kenyon Drive\, Sabina\, 45169\, United States
END:VEVENT
BEGIN:VEVENT
DTSTART;TZID=America/New_York:20250408T190000
DTEND;TZID=America/New_York:20250408T200000
DTSTAMP:20260423T114811
CREATED:20250305T183738Z
LAST-MODIFIED:20250305T183738Z
UID:258-1744138800-1744142400@sabina-neighborhood-watch.com
SUMMARY:Next Town Hall Meeting
DESCRIPTION:We will have another Town Hall meeting at the COVE on April 8\, 2025\, from 7:00 pm to 8:00 pm. If you want to know more about the efforts of the Sabina Neighborhood Watch group or have concerns you would like to have addressed\, come on out!
URL:https://sabina-neighborhood-watch.com/event/next-town-hall-meeting/
LOCATION:The Cove\, 185 South College Street\, Sabina\, OH\, 45169\, United States
END:VEVENT
BEGIN:VEVENT
DTSTART;TZID=America/New_York:20250405T080000
DTEND;TZID=America/New_York:20250405T170000
DTSTAMP:20260423T114811
CREATED:20250313T014138Z
LAST-MODIFIED:20250313T021435Z
UID:263-1743840000-1743872400@sabina-neighborhood-watch.com
SUMMARY:Sabina Dumpster Day 1
DESCRIPTION:To help with the many blighted properties around Sabina\, or for residents who just have some things that need to be disposed of\, the Village is having two “Dumpster Days” in April this year. Thankfully the news is that this year’s event will be restricted to Sabina Residents\, not those from other towns or cities filling up our dumpsters. So spread the word\, especially to anyone with a property full of trash and junk who needs a place to get rid of that stuff – legally.  \nThe Police Chief will be handing out warnings to residents who’s properties are considered blighted and in dire need of cleanup.
URL:https://sabina-neighborhood-watch.com/event/sabina-dumpster-day-1/
LOCATION:Sabina Park\, Kenyon Drive\, Sabina\, 45169\, United States
END:VEVENT
BEGIN:VEVENT
DTSTART;TZID=America/New_York:20250211T190000
DTEND;TZID=America/New_York:20250211T200000
DTSTAMP:20260423T114811
CREATED:20250121T225453Z
LAST-MODIFIED:20250121T225453Z
UID:201-1739300400-1739304000@sabina-neighborhood-watch.com
SUMMARY:Neighborhood Watch Meeting
DESCRIPTION:Monthly meeting to go over status\, next steps\, and any concerns or celebrations to discuss. Also feedback on Town Hall meeting\, feedback and reaching out to more of Sabina.
URL:https://sabina-neighborhood-watch.com/event/neighborhood-watch-meeting/
LOCATION:Sabina Village Council Chamber\, 99 Howard Street\, Sabina\, OH\, 45169\, United States
END:VEVENT
BEGIN:VEVENT
DTSTART;TZID=America/New_York:20250114T190000
DTEND;TZID=America/New_York:20250114T210000
DTSTAMP:20260423T114811
CREATED:20250106T040117Z
LAST-MODIFIED:20250106T040117Z
UID:101-1736881200-1736888400@sabina-neighborhood-watch.com
SUMMARY:Town Hall Meeting
DESCRIPTION:On January 14\, 2025 at 7:00pm the Village of Sabina\, OH will have a “Town Hall” meeting at the COVE on the south side of town\, inviting all residents of the Village to hear about the work done in 2024 to re-start the Neighborhood Watch group up in Sabina.  \nWe hope to introduce Sabina’s Police Chief\, Joe Noland\, Neighborhood Watch Chair\, Roger Starnes\, and the other active members of the group as well as our “Block Captains”.  \nResidents are encouraged to bring concerns up during the meeting to see how best we can focus on problems around the Village of Sabina.  \nRefreshments will be provided!
URL:https://sabina-neighborhood-watch.com/event/town-hall-meeting/
LOCATION:The Cove\, 185 South College Street\, Sabina\, OH\, 45169\, United States
END:VEVENT
END:VCALENDAR